BEGIN:VCALENDAR
VERSION:2.0
PRODID:-//QGENESIS - ECPv6.13.2.1//NONSGML v1.0//EN
CALSCALE:GREGORIAN
METHOD:PUBLISH
X-ORIGINAL-URL:https://qgenesis.com
X-WR-CALDESC:Events for QGENESIS
REFRESH-INTERVAL;VALUE=DURATION:PT1H
X-Robots-Tag:noindex
X-PUBLISHED-TTL:PT1H
BEGIN:VTIMEZONE
TZID:Asia/Kolkata
BEGIN:STANDARD
TZOFFSETFROM:+0530
TZOFFSETTO:+0530
TZNAME:IST
DTSTART:20200101T000000
END:STANDARD
END:VTIMEZONE
BEGIN:VEVENT
DTSTART;TZID=Asia/Kolkata:20200610T190000
DTEND;TZID=Asia/Kolkata:20200610T210000
DTSTAMP:20260425T011027
CREATED:20200530T175834Z
LAST-MODIFIED:20200530T194015Z
UID:2046-1591815600-1591822800@qgenesis.com
SUMMARY:Deep Neural Network (Deep Learning)
DESCRIPTION:Introduce major deep learning algorithms\, the problem settings\, and their applications to solve real-world problems. \nOutcomes\nIdentify the deep learning algorithms which are more appropriate for various types of learning tasks in various domains.\nImplement deep learning algorithms and solve real-world problems.
URL:https://qgenesis.com/event/deep-neural-network-deep-learning/
CATEGORIES:Professional Skills
ATTACH;FMTTYPE=image/jpeg:https://qgenesis.com/wp-content/uploads/2020/05/Neural.jpeg
ORGANIZER;CN="EduMakr":MAILTO:support.training@qgenesis.com
END:VEVENT
END:VCALENDAR