BEGIN:VCALENDAR
VERSION:2.0
PRODID:-//QGENESIS - ECPv6.13.2.1//NONSGML v1.0//EN
CALSCALE:GREGORIAN
METHOD:PUBLISH
X-WR-CALNAME:QGENESIS
X-ORIGINAL-URL:https://qgenesis.com
X-WR-CALDESC:Events for QGENESIS
REFRESH-INTERVAL;VALUE=DURATION:PT1H
X-Robots-Tag:noindex
X-PUBLISHED-TTL:PT1H
BEGIN:VTIMEZONE
TZID:Asia/Kolkata
BEGIN:STANDARD
TZOFFSETFROM:+0530
TZOFFSETTO:+0530
TZNAME:IST
DTSTART:20200101T000000
END:STANDARD
END:VTIMEZONE
BEGIN:VEVENT
DTSTART;TZID=Asia/Kolkata:20200618T190000
DTEND;TZID=Asia/Kolkata:20200618T210000
DTSTAMP:20260425T022614
CREATED:20200530T181034Z
LAST-MODIFIED:20200530T193238Z
UID:2054-1592506800-1592514000@qgenesis.com
SUMMARY:Kanban and Kaizen
DESCRIPTION:Define the PQCDSM principle for Kaizen. Explain how PQCDSM can help in the implementation of Kaizen. Kanban System course will familiarise you with the various aspects of the Kanban system\, including lean scheduling and Just in Time(JIT) production. \nOutcomes\nExplain the goal of the Kaizen process. Describe the levels of Kaizen process implementation\, organizations can undertake. Elaborate the steps for implementation of the Kanban system.
URL:https://qgenesis.com/event/kanban-and-kaizen/
CATEGORIES:Tools & Techniques
ATTACH;FMTTYPE=image/jpeg:https://qgenesis.com/wp-content/uploads/2020/05/kaizen.jpg
ORGANIZER;CN="EduMakr":MAILTO:support.training@qgenesis.com
END:VEVENT
END:VCALENDAR