BEGIN:VCALENDAR
VERSION:2.0
PRODID:-//QGENESIS - ECPv6.13.2.1//NONSGML v1.0//EN
CALSCALE:GREGORIAN
METHOD:PUBLISH
X-ORIGINAL-URL:https://qgenesis.com
X-WR-CALDESC:Events for QGENESIS
REFRESH-INTERVAL;VALUE=DURATION:PT1H
X-Robots-Tag:noindex
X-PUBLISHED-TTL:PT1H
BEGIN:VTIMEZONE
TZID:Asia/Kolkata
BEGIN:STANDARD
TZOFFSETFROM:+0530
TZOFFSETTO:+0530
TZNAME:IST
DTSTART:20200101T000000
END:STANDARD
END:VTIMEZONE
BEGIN:VEVENT
DTSTART;TZID=Asia/Kolkata:20200623T190000
DTEND;TZID=Asia/Kolkata:20200623T210000
DTSTAMP:20260425T010915
CREATED:20200530T181909Z
LAST-MODIFIED:20200530T192449Z
UID:2059-1592938800-1592946000@qgenesis.com
SUMMARY:Design Thinking
DESCRIPTION:Design thinking is an industry-agnostic problem-solving process that embraces creativity\, encourages collaboration and focuses on a people-first mindset. Long gone are the days when a single issue or problem resulted in a single solution or answer. Companies are striving not only to honour knowledge and expertise but also to leverage this information by considering what the customer desires\, feels\, and truly wants. \nOutcomes\nUpon completion of this course you’ll be able to: \nRecognise the historical\, societal and technological shifts leading to Design Thinking\nEmpathise with the end-user and his/her needs to extract consumer insights and articulate problem statements.\nBrainstorm potential solutions by tapping into the diversity of expertise\, personality\, opinions and experiences of the core team\nSelect and move the best ideas to low-fidelity prototypes to engage smaller audiences faster\nRefine and clarify thinking by observing\, testing\, questioning and listening\nEngage and collaborate with other departments to change the culture and speed up innovation
URL:https://qgenesis.com/event/design-thinking/
CATEGORIES:Professional Skills
ATTACH;FMTTYPE=image/jpeg:https://qgenesis.com/wp-content/uploads/2020/05/Untitled-design-8.jpeg
ORGANIZER;CN="EduMakr":MAILTO:support.training@qgenesis.com
END:VEVENT
END:VCALENDAR