BEGIN:VCALENDAR
VERSION:2.0
PRODID:-//QGENESIS - ECPv6.13.2.1//NONSGML v1.0//EN
CALSCALE:GREGORIAN
METHOD:PUBLISH
X-ORIGINAL-URL:https://qgenesis.com
X-WR-CALDESC:Events for QGENESIS
REFRESH-INTERVAL;VALUE=DURATION:PT1H
X-Robots-Tag:noindex
X-PUBLISHED-TTL:PT1H
BEGIN:VTIMEZONE
TZID:Asia/Kolkata
BEGIN:STANDARD
TZOFFSETFROM:+0530
TZOFFSETTO:+0530
TZNAME:IST
DTSTART:20200101T000000
END:STANDARD
END:VTIMEZONE
BEGIN:VEVENT
DTSTART;TZID=Asia/Kolkata:20200624T190000
DTEND;TZID=Asia/Kolkata:20200624T210000
DTSTAMP:20260425T022829
CREATED:20200530T182115Z
LAST-MODIFIED:20200530T192155Z
UID:2060-1593025200-1593032400@qgenesis.com
SUMMARY:New Manager Skills Development
DESCRIPTION:To introduce new managers to key concepts of management systems to enable participants to get started as new managers or first-time managers.\nTo present an overview of team building through standardized global models to enable them to adapt their team’s strengths to achieve defined targets\nTo introduce participants to strategies of time management\, self and others’ performance assessment and to give high-quality developmental feedback to enable them to be successful in their new roles\nTo introduce participants to De Bono’s hats theory of decision making to enable them to take logical and thorough decisions quickly within a globally accepted creative framework.\n\nOutcomes\nBy the end of the program\, participants will have an understanding of how to apply essential management skills to perform their role as a new manager.
URL:https://qgenesis.com/event/new-manager-skills-development/
CATEGORIES:Leadership
ATTACH;FMTTYPE=image/jpeg:https://qgenesis.com/wp-content/uploads/2020/05/new-leaders.jpg
ORGANIZER;CN="EduMakr":MAILTO:support.training@qgenesis.com
END:VEVENT
END:VCALENDAR