BEGIN:VCALENDAR
VERSION:2.0
PRODID:-//QGENESIS - ECPv6.13.2.1//NONSGML v1.0//EN
CALSCALE:GREGORIAN
METHOD:PUBLISH
X-WR-CALNAME:QGENESIS
X-ORIGINAL-URL:https://qgenesis.com
X-WR-CALDESC:Events for QGENESIS
REFRESH-INTERVAL;VALUE=DURATION:PT1H
X-Robots-Tag:noindex
X-PUBLISHED-TTL:PT1H
BEGIN:VTIMEZONE
TZID:Asia/Kolkata
BEGIN:STANDARD
TZOFFSETFROM:+0530
TZOFFSETTO:+0530
TZNAME:IST
DTSTART:20200101T000000
END:STANDARD
END:VTIMEZONE
BEGIN:VEVENT
DTSTART;TZID=Asia/Kolkata:20200629T190000
DTEND;TZID=Asia/Kolkata:20200629T210000
DTSTAMP:20260425T010722
CREATED:20200530T182746Z
LAST-MODIFIED:20200530T191247Z
UID:2065-1593457200-1593464400@qgenesis.com
SUMMARY:Information Security
DESCRIPTION:This course focusses on the models\, tools\, and techniques for enforcement of security with some emphasis on the use of cryptography. \nOutcomes\nAfter the completion of the course\, you will be able to develop a basic understanding of security\, cryptography\, system attacks and defences against them.
URL:https://qgenesis.com/event/information-security/
CATEGORIES:IT & IT Enabled Services
ATTACH;FMTTYPE=image/png:https://qgenesis.com/wp-content/uploads/2020/05/hacking-3112539_1920.png
ORGANIZER;CN="EduMakr":MAILTO:support.training@qgenesis.com
END:VEVENT
END:VCALENDAR