BEGIN:VCALENDAR
VERSION:2.0
PRODID:-//QGENESIS - ECPv6.13.2.1//NONSGML v1.0//EN
CALSCALE:GREGORIAN
METHOD:PUBLISH
X-WR-CALNAME:QGENESIS
X-ORIGINAL-URL:https://qgenesis.com
X-WR-CALDESC:Events for QGENESIS
REFRESH-INTERVAL;VALUE=DURATION:PT1H
X-Robots-Tag:noindex
X-PUBLISHED-TTL:PT1H
BEGIN:VTIMEZONE
TZID:Asia/Kolkata
BEGIN:STANDARD
TZOFFSETFROM:+0530
TZOFFSETTO:+0530
TZNAME:IST
DTSTART:20200101T000000
END:STANDARD
END:VTIMEZONE
BEGIN:VEVENT
DTSTART;TZID=Asia/Kolkata:20200630T190000
DTEND;TZID=Asia/Kolkata:20200630T210000
DTSTAMP:20260425T011216
CREATED:20200530T165330Z
LAST-MODIFIED:20200530T191414Z
UID:2036-1593543600-1593550800@qgenesis.com
SUMMARY:Team Building
DESCRIPTION:The overall objective of any Team Building Workshop should be that your Team is further down the road towards achieving the status of a high performing Team. This is a useful theme for the workshop\, as it keeps the Team thinking forward to where we want to be\, and planning how we can get from where we are now to where we need/want to be! \nOutcome\nBy the end of the session\, you will analyse the following :\nWhere are we now?\nWhere do we need to be to achieve success?\nHow will we get there?\nWhat are the tools/techniques?
URL:https://qgenesis.com/event/team-building/
CATEGORIES:Soft Skills
ATTACH;FMTTYPE=image/jpeg:https://qgenesis.com/wp-content/uploads/2020/05/Team-building-puzzle-1.jpg
ORGANIZER;CN="EduMakr":MAILTO:support.training@qgenesis.com
END:VEVENT
END:VCALENDAR