BEGIN:VCALENDAR
VERSION:2.0
PRODID:-//QGENESIS - ECPv6.13.2.1//NONSGML v1.0//EN
CALSCALE:GREGORIAN
METHOD:PUBLISH
X-WR-CALNAME:QGENESIS
X-ORIGINAL-URL:https://qgenesis.com
X-WR-CALDESC:Events for QGENESIS
REFRESH-INTERVAL;VALUE=DURATION:PT1H
X-Robots-Tag:noindex
X-PUBLISHED-TTL:PT1H
BEGIN:VTIMEZONE
TZID:Asia/Kolkata
BEGIN:STANDARD
TZOFFSETFROM:+0530
TZOFFSETTO:+0530
TZNAME:IST
DTSTART:20200101T000000
END:STANDARD
END:VTIMEZONE
BEGIN:VEVENT
DTSTART;TZID=Asia/Kolkata:20200626T190000
DTEND;TZID=Asia/Kolkata:20200626T210000
DTSTAMP:20260425T041033
CREATED:20200530T182329Z
LAST-MODIFIED:20200530T191915Z
UID:2062-1593198000-1593205200@qgenesis.com
SUMMARY:Oral Hygiene
DESCRIPTION:Oral hygiene is the practice of keeping one’s mouth clean and free of disease and other problems by regular brushing of the teeth and cleaning between the teeth. It is important that oral hygiene be carried out on a regular basis to enable prevention of dental disease and bad breath.
URL:https://qgenesis.com/event/oral-hygiene/
CATEGORIES:Healthcare & Well Being
ATTACH;FMTTYPE=image/jpeg:https://qgenesis.com/wp-content/uploads/2020/05/Oral.jpg
ORGANIZER;CN="EduMakr":MAILTO:support.training@qgenesis.com
END:VEVENT
BEGIN:VEVENT
DTSTART;TZID=Asia/Kolkata:20200609T190000
DTEND;TZID=Asia/Kolkata:20200609T210000
DTSTAMP:20260425T041033
CREATED:20200530T175711Z
LAST-MODIFIED:20200607T173902Z
UID:2045-1591729200-1591736400@qgenesis.com
SUMMARY:Preventive Dentistry - COVID Dental Awareness
DESCRIPTION:Course Objectives\n\nTo impart knowledge on the causes of dental disease & its prevention\nDental preventive measures for Children\, Adults\, Pregnant women and senior citizens\nThe necessity of proper nutrition\, regular & proper oral hygiene to improve the quality of lives\n\nOutcomes\nThe over-arching goal of preventive dentistry is for everyone to keep their natural teeth in\, as good a condition as possible\, for as long as possible. Anything important in our lives needs to be taken care of\, for it to remain in good condition.
URL:https://qgenesis.com/event/failure-modes-and-effects-analysis-fmea/
CATEGORIES:Healthcare & Well Being
ATTACH;FMTTYPE=image/jpeg:https://qgenesis.com/wp-content/uploads/2020/05/FMEA.jpg
ORGANIZER;CN="EduMakr":MAILTO:support.training@qgenesis.com
END:VEVENT
END:VCALENDAR