BEGIN:VCALENDAR
VERSION:2.0
PRODID:-//QGENESIS - ECPv6.13.2.1//NONSGML v1.0//EN
CALSCALE:GREGORIAN
METHOD:PUBLISH
X-ORIGINAL-URL:https://qgenesis.com
X-WR-CALDESC:Events for QGENESIS
REFRESH-INTERVAL;VALUE=DURATION:PT1H
X-Robots-Tag:noindex
X-PUBLISHED-TTL:PT1H
BEGIN:VTIMEZONE
TZID:Asia/Kolkata
BEGIN:STANDARD
TZOFFSETFROM:+0530
TZOFFSETTO:+0530
TZNAME:IST
DTSTART:20200101T000000
END:STANDARD
END:VTIMEZONE
BEGIN:VEVENT
DTSTART;TZID=Asia/Kolkata:20200629T190000
DTEND;TZID=Asia/Kolkata:20200629T210000
DTSTAMP:20260425T034038
CREATED:20200530T182746Z
LAST-MODIFIED:20200530T191247Z
UID:2065-1593457200-1593464400@qgenesis.com
SUMMARY:Information Security
DESCRIPTION:This course focusses on the models\, tools\, and techniques for enforcement of security with some emphasis on the use of cryptography. \nOutcomes\nAfter the completion of the course\, you will be able to develop a basic understanding of security\, cryptography\, system attacks and defences against them.
URL:https://qgenesis.com/event/information-security/
CATEGORIES:IT & IT Enabled Services
ATTACH;FMTTYPE=image/png:https://qgenesis.com/wp-content/uploads/2020/05/hacking-3112539_1920.png
ORGANIZER;CN="EduMakr":MAILTO:support.training@qgenesis.com
END:VEVENT
BEGIN:VEVENT
DTSTART;TZID=Asia/Kolkata:20200627T100000
DTEND;TZID=Asia/Kolkata:20200627T170000
DTSTAMP:20260425T034038
CREATED:20200530T182446Z
LAST-MODIFIED:20200530T191746Z
UID:2063-1593252000-1593277200@qgenesis.com
SUMMARY:ITIL Foundation - Overview
DESCRIPTION:ITIL\, formerly an acronym for Information Technology Infrastructure Library\, is a set of detailed practices for IT service management that focuses on aligning IT services with the needs of the business. ITIL improves your competence\, productivity and capability to build better relationships with customers and within the organization. ITIL helps you make the processes more cost-efficient by optimizing the use of available resources.
URL:https://qgenesis.com/event/itil-foundation-overview/
CATEGORIES:IT & IT Enabled Services
ATTACH;FMTTYPE=image/jpeg:https://qgenesis.com/wp-content/uploads/2020/05/kanban.jpg
ORGANIZER;CN="EduMakr":MAILTO:support.training@qgenesis.com
END:VEVENT
BEGIN:VEVENT
DTSTART;TZID=Asia/Kolkata:20200621T100000
DTEND;TZID=Asia/Kolkata:20200621T170000
DTSTAMP:20260425T034038
CREATED:20200530T181440Z
LAST-MODIFIED:20200530T201001Z
UID:2057-1592733600-1592758800@qgenesis.com
SUMMARY:Data Science using Python - Day 2
DESCRIPTION:It is a 2 days workshop of 4 modules\, 3 hours each.\nProvide Insights About the Roles of a Data ScientistEnable You to Analyze of Big Data\nLearn Techniques and Tools for Transformation of Data\n\nOutcomes\nFair understanding with Data Science Project Journey. You will be able to design Data-driven solution Architecture for your organization
URL:https://qgenesis.com/event/data-science-using-python/
CATEGORIES:IT & IT Enabled Services
ATTACH;FMTTYPE=image/jpeg:https://qgenesis.com/wp-content/uploads/2020/05/what-is-data-science.jpg
ORGANIZER;CN="EduMakr":MAILTO:support.training@qgenesis.com
END:VEVENT
BEGIN:VEVENT
DTSTART;TZID=Asia/Kolkata:20200619T190000
DTEND;TZID=Asia/Kolkata:20200619T210000
DTSTAMP:20260425T034038
CREATED:20200530T181202Z
LAST-MODIFIED:20200530T193134Z
UID:2055-1592593200-1592600400@qgenesis.com
SUMMARY:Angular JS 8
DESCRIPTION:This course covers concepts involved in securing full-stack web applications using AngularJS\, from Authentication and Authorization strategies to the built-in security features AngularJS ships with. AngularJS is designed to facilitate the development of rich\, robust\, single-page web applications. \nOutcomes\nThis course will teach you how to get started building AngularJS applications with using TypeScript and also about working with some of the categories of AngularUI\, a companion framework to AngularJS\, those being AngularUI Bootstrap\, NG-Grid\, UI-Alias\, UI-Select\, routing with UI-Router\, two categories of AngularUI\, a companion framework to AngularJS\, those being AngularUI Utilities and AngularUI Modules and working with AngularJS application data in a client browser\, by covering concepts such as offline detection and availability\, caching\, storing data in the client\, and creating data models.
URL:https://qgenesis.com/event/angular-js-8/
CATEGORIES:IT & IT Enabled Services
ATTACH;FMTTYPE=image/jpeg:https://qgenesis.com/wp-content/uploads/2020/05/home_194132108.jpg
ORGANIZER;CN="EduMakr":MAILTO:support.training@qgenesis.com
END:VEVENT
BEGIN:VEVENT
DTSTART;TZID=Asia/Kolkata:20200617T190000
DTEND;TZID=Asia/Kolkata:20200617T210000
DTSTAMP:20260425T034038
CREATED:20200530T180906Z
LAST-MODIFIED:20200530T193409Z
UID:2053-1592420400-1592427600@qgenesis.com
SUMMARY:ITIL OVERVIEW
DESCRIPTION:ITIL® (Information Technology Infrastructure Library) is a set of IT management practices that helps in the alignment of IT with business needs. It helps in maintaining the quality of service of organizations that provide IT services to internal or external customers. \nOutcomes\nThis ITIL® Foundation Syllabus gives an idea of ITILÂ® and how can one utilise it for increasing customer satisfaction; achieving the overall goals.
URL:https://qgenesis.com/event/itil-overview/
CATEGORIES:IT & IT Enabled Services
ATTACH;FMTTYPE=image/jpeg:https://qgenesis.com/wp-content/uploads/2020/05/1614824.jpg
ORGANIZER;CN="EduMakr":MAILTO:support.training@qgenesis.com
END:VEVENT
BEGIN:VEVENT
DTSTART;TZID=Asia/Kolkata:20200615T190000
DTEND;TZID=Asia/Kolkata:20200615T210000
DTSTAMP:20260425T034038
CREATED:20200530T180632Z
LAST-MODIFIED:20200530T193604Z
UID:2051-1592247600-1592254800@qgenesis.com
SUMMARY:Cyber Security and Ethical Hacking
DESCRIPTION:This course is for anyone who wants to become an expert in security\, privacy\, and anonymity. For anyone who would love to gain a practical skillset in mitigating the risk from\, malware\, Trojans\, hackers\, trackers\, cybercriminals and all online threats.\nThis course is for anyone who wants to keep their precious files\, emails\, accounts and personal information out of the hands of the bad guys. \nOutcomes\nAn advanced practical skill-set in assuring network security against all threats including – advanced hackers\, trackers\, exploit kits\, Wi-Fi attacks and much more.
URL:https://qgenesis.com/event/cyber-security-and-ethical-hacking/
CATEGORIES:IT & IT Enabled Services
ATTACH;FMTTYPE=image/png:https://qgenesis.com/wp-content/uploads/2020/05/hacking-3112539_1920.png
ORGANIZER;CN="EduMakr":MAILTO:support.training@qgenesis.com
END:VEVENT
BEGIN:VEVENT
DTSTART;TZID=Asia/Kolkata:20200614T100000
DTEND;TZID=Asia/Kolkata:20200614T170000
DTSTAMP:20260425T034038
CREATED:20200530T180508Z
LAST-MODIFIED:20200530T200910Z
UID:2050-1592128800-1592154000@qgenesis.com
SUMMARY:Data Science using Python - Day 1
DESCRIPTION:It is a 2 days workshop of 4 modules\, 3 hours each.\nProvide Insights About the Roles of a Data ScientistEnable You to Analyze of Big Data\nLearn Techniques and Tools for Transformation of Data\n\nOutcomes\nFair understanding with Data Science Project Journey. You will be able to design Data-driven solution Architecture for your organization
URL:https://qgenesis.com/event/datascience-using-python/
CATEGORIES:IT & IT Enabled Services
ATTACH;FMTTYPE=image/jpeg:https://qgenesis.com/wp-content/uploads/2020/05/what-is-data-science.jpg
ORGANIZER;CN="EduMakr":MAILTO:support.training@qgenesis.com
END:VEVENT
BEGIN:VEVENT
DTSTART;TZID=Asia/Kolkata:20200613T100000
DTEND;TZID=Asia/Kolkata:20200613T170000
DTSTAMP:20260425T034038
CREATED:20200530T180338Z
LAST-MODIFIED:20200530T193702Z
UID:2049-1592042400-1592067600@qgenesis.com
SUMMARY:Data Visualization in Power BI
DESCRIPTION:Power BI is a business analytics service by Microsoft. It aims to provide interactive visualizations and business intelligence capabilities with an interface simple enough for end-users to create their own reports and dashboards.
URL:https://qgenesis.com/event/data-visualization-in-power-bi-2/
CATEGORIES:IT & IT Enabled Services
ATTACH;FMTTYPE=image/jpeg:https://qgenesis.com/wp-content/uploads/2020/05/Power-BI.jpg
ORGANIZER;CN="EduMakr":MAILTO:support.training@qgenesis.com
END:VEVENT
BEGIN:VEVENT
DTSTART;TZID=Asia/Kolkata:20200612T190000
DTEND;TZID=Asia/Kolkata:20200612T210000
DTSTAMP:20260425T034038
CREATED:20200530T180225Z
LAST-MODIFIED:20200530T193819Z
UID:2048-1591988400-1591995600@qgenesis.com
SUMMARY:Awareness on ioT
DESCRIPTION:The idea of the Internet of Things (IoT) has been around for several years now. But still industry – incumbents and startup – search for applications and appropriate business models. This course introduces the most important concepts of the internet of things and various mechanisms that make IoT useful. The IoT value stack is introduced\, too\, as well as a short introduction to business model innovation. \nOutcomes\n\nYou will be able to ideate applications for the Internet of Things in your business context.\nYou will gain an understanding of the business implications of the Internet of Things.\nYou will be able to design Business Models for Internet of Things applications
URL:https://qgenesis.com/event/awareness-on-iot/
CATEGORIES:IT & IT Enabled Services
ATTACH;FMTTYPE=image/png:https://qgenesis.com/wp-content/uploads/2020/05/ioT.png
ORGANIZER;CN="EduMakr":MAILTO:support.training@qgenesis.com
END:VEVENT
BEGIN:VEVENT
DTSTART;TZID=Asia/Kolkata:20200606T100000
DTEND;TZID=Asia/Kolkata:20200606T170000
DTSTAMP:20260425T034038
CREATED:20200530T175121Z
LAST-MODIFIED:20200530T194239Z
UID:2042-1591437600-1591462800@qgenesis.com
SUMMARY:Data Visualization in Power BI
DESCRIPTION:Topics covered include an overview of PowerPivot\, creating effective and professional reports\, creating hierarchies\, effectively applying different chart styles\, and creating report templates. Second-day topics include creating Power Views with Excel\, Power Map\, and Power Query. Third-day topics include database design concepts\, how to build both general purpose and customized data models\, and how to use basic DAX language and functionality to extend the capabilities of data models for in-depth and customized analysis of information. Fourth-day topics cover Relational functions\, Date functions\, Banding\, Ranking\, advanced Slicer techniques\, plus using DAX as a query language for customized analysis. \nOutcomes\nAt the end of this course\, the participants will learn. Everything they need to create highly effective PivotTable and PivotChart reports using data models created by more advanced Power BI Designers. How to transform and query data sources using Power Query. Creating effective and professional reports and effectively applying new visualization techniques using Power View. How to use basic DAX language and functionality to extend the capabilities of data models for in-depth and customized analysis of information. Working with complex time intelligence calculations\, creating advanced DAX dashboards and report elements using Slicers.
URL:https://qgenesis.com/event/data-visualization-in-power-bi/
CATEGORIES:IT & IT Enabled Services
ATTACH;FMTTYPE=image/jpeg:https://qgenesis.com/wp-content/uploads/2020/05/Power-BI.jpg
ORGANIZER;CN="EduMakr":MAILTO:support.training@qgenesis.com
END:VEVENT
BEGIN:VEVENT
DTSTART;TZID=Asia/Kolkata:20200604T190000
DTEND;TZID=Asia/Kolkata:20200604T210000
DTSTAMP:20260425T034038
CREATED:20200530T131516Z
LAST-MODIFIED:20200530T200336Z
UID:2019-1591297200-1591304400@qgenesis.com
SUMMARY:Awareness on AI
DESCRIPTION:Course Objectives\nArtificial Intelligence (AI) is transforming our world. Whether you’re a student\, developer\, or a technology consultant\, understanding AI and knowing how to create AI-powered applications can give you an edge in your career. \nOutcomes\nThe meaning behind common AI terminology\, including neural networks\, machine learning\, deep learning\, and data science What AI realistically can and cannot do. How to spot opportunities to apply AI to problems in your own organization. What it feels like to build machine learning and data science projects. How to work with an AI team and build an AI strategy in your company.
URL:https://qgenesis.com/event/awareness-on-ai/
CATEGORIES:IT & IT Enabled Services
ATTACH;FMTTYPE=image/jpeg:https://qgenesis.com/wp-content/uploads/2020/05/1704529.jpg
ORGANIZER;CN="EduMakr":MAILTO:support.training@qgenesis.com
END:VEVENT
END:VCALENDAR