BEGIN:VCALENDAR
VERSION:2.0
PRODID:-//QGENESIS - ECPv6.13.2.1//NONSGML v1.0//EN
CALSCALE:GREGORIAN
METHOD:PUBLISH
X-WR-CALNAME:QGENESIS
X-ORIGINAL-URL:https://qgenesis.com
X-WR-CALDESC:Events for QGENESIS
REFRESH-INTERVAL;VALUE=DURATION:PT1H
X-Robots-Tag:noindex
X-PUBLISHED-TTL:PT1H
BEGIN:VTIMEZONE
TZID:Asia/Kolkata
BEGIN:STANDARD
TZOFFSETFROM:+0530
TZOFFSETTO:+0530
TZNAME:IST
DTSTART:20200101T000000
END:STANDARD
END:VTIMEZONE
BEGIN:VEVENT
DTSTART;TZID=Asia/Kolkata:20200620T100000
DTEND;TZID=Asia/Kolkata:20200620T170000
DTSTAMP:20260425T035540
CREATED:20200530T181328Z
LAST-MODIFIED:20200530T192850Z
UID:2056-1592647200-1592672400@qgenesis.com
SUMMARY:AGILE  and SCRUM
DESCRIPTION:Agile Essentials is a quick and practical guide to the agile process. You will get an introduction to Scrum\, and learn about initiating a project and planning and estimating a project. You will also learn about implementing a project\, sprint review\, retrospect\, and release. \nOutcomes\nThe course offers clear yet concise explanations about all the steps in agile development. You will have learned the skills necessary to plan and initiate projects using scrum.
URL:https://qgenesis.com/event/agile-and-scrum/
CATEGORIES:Project Management
ATTACH;FMTTYPE=image/png:https://qgenesis.com/wp-content/uploads/2020/05/Agile.png
ORGANIZER;CN="EduMakr":MAILTO:support.training@qgenesis.com
END:VEVENT
END:VCALENDAR