BEGIN:VCALENDAR
VERSION:2.0
PRODID:-//QGENESIS - ECPv6.13.2.1//NONSGML v1.0//EN
CALSCALE:GREGORIAN
METHOD:PUBLISH
X-ORIGINAL-URL:https://qgenesis.com
X-WR-CALDESC:Events for QGENESIS
REFRESH-INTERVAL;VALUE=DURATION:PT1H
X-Robots-Tag:noindex
X-PUBLISHED-TTL:PT1H
BEGIN:VTIMEZONE
TZID:Asia/Kolkata
BEGIN:STANDARD
TZOFFSETFROM:+0530
TZOFFSETTO:+0530
TZNAME:IST
DTSTART:20200101T000000
END:STANDARD
END:VTIMEZONE
BEGIN:VEVENT
DTSTART;TZID=Asia/Kolkata:20200630T190000
DTEND;TZID=Asia/Kolkata:20200630T210000
DTSTAMP:20260425T034405
CREATED:20200530T165330Z
LAST-MODIFIED:20200530T191414Z
UID:2036-1593543600-1593550800@qgenesis.com
SUMMARY:Team Building
DESCRIPTION:The overall objective of any Team Building Workshop should be that your Team is further down the road towards achieving the status of a high performing Team. This is a useful theme for the workshop\, as it keeps the Team thinking forward to where we want to be\, and planning how we can get from where we are now to where we need/want to be! \nOutcome\nBy the end of the session\, you will analyse the following :\nWhere are we now?\nWhere do we need to be to achieve success?\nHow will we get there?\nWhat are the tools/techniques?
URL:https://qgenesis.com/event/team-building/
CATEGORIES:Soft Skills
ATTACH;FMTTYPE=image/jpeg:https://qgenesis.com/wp-content/uploads/2020/05/Team-building-puzzle-1.jpg
ORGANIZER;CN="EduMakr":MAILTO:support.training@qgenesis.com
END:VEVENT
BEGIN:VEVENT
DTSTART;TZID=Asia/Kolkata:20200625T190000
DTEND;TZID=Asia/Kolkata:20200625T210000
DTSTAMP:20260425T034405
CREATED:20200530T182234Z
LAST-MODIFIED:20200530T192110Z
UID:2061-1593111600-1593118800@qgenesis.com
SUMMARY:Public Speaking
DESCRIPTION:As they say\, for some\, the fear of public speaking is the most common phobia ahead of death\, spiders\, or heights! Learn how to get over ‘Stage Fright’ and become confident and effective at public speaking. Public Speaking will help you become more confident in speaking and create an impact. \nOutcomes\nThe course will teach you what exactly are your triggers for the stage fright and addresses them. You will understand how to identify your audience\, create a basic outline of your speech\, organize the program\, flesh it out\, put it all together\, be prepared\, overcome nervousness and to deliver the speech.
URL:https://qgenesis.com/event/public-speaking/
CATEGORIES:Soft Skills
ATTACH;FMTTYPE=image/jpeg:https://qgenesis.com/wp-content/uploads/2020/05/public.jpg
ORGANIZER;CN="EduMakr":MAILTO:support.training@qgenesis.com
END:VEVENT
BEGIN:VEVENT
DTSTART;TZID=Asia/Kolkata:20200616T190000
DTEND;TZID=Asia/Kolkata:20200616T210000
DTSTAMP:20260425T034405
CREATED:20200530T180756Z
LAST-MODIFIED:20200530T193448Z
UID:2052-1592334000-1592341200@qgenesis.com
SUMMARY:Emotional Quotient
DESCRIPTION:You’ll learn skills to interpret and manage your emotions and the emotions of others; balance your optimism and pessimism\, use coping methods and relaxation techniques\, manage your non-verbal communication etc. \nOutcomes\nThis course will make you more aware of your own thoughts and feelings and as a result it will improve your ability to interact calmly with others both in the workplace and at home.
URL:https://qgenesis.com/event/emotional-quotient/
CATEGORIES:Soft Skills
ATTACH;FMTTYPE=image/jpeg:https://qgenesis.com/wp-content/uploads/2020/05/Emotional-Intelligence-1920x1080-1.jpg
ORGANIZER;CN="EduMakr":MAILTO:support.training@qgenesis.com
END:VEVENT
BEGIN:VEVENT
DTSTART;TZID=Asia/Kolkata:20200605T190000
DTEND;TZID=Asia/Kolkata:20200605T210000
DTSTAMP:20260425T034405
CREATED:20200530T131927Z
LAST-MODIFIED:20200530T184310Z
UID:2021-1591383600-1591390800@qgenesis.com
SUMMARY:Dispute Resolution (Conflict)
DESCRIPTION:Course Objectives\n\nTo equip participants to understand the source\, nature and benefits of conflict\nTo introduce role-play as a method dealing with conflict\n\nOutcomes\nBy the end of the workshops\, participants will have a deeper understanding of the true nature of conflict and how it impacts organizations. Participants will have a positive view of conflicts as opportunities to build relationships between two parties.
URL:https://qgenesis.com/event/dispute-resolution-conflict/
CATEGORIES:Soft Skills
ATTACH;FMTTYPE=image/jpeg:https://qgenesis.com/wp-content/uploads/2020/05/Dispute.jpg
ORGANIZER;CN="EduMakr":MAILTO:support.training@qgenesis.com
END:VEVENT
BEGIN:VEVENT
DTSTART;TZID=Asia/Kolkata:20200601T190000
DTEND;TZID=Asia/Kolkata:20200601T210000
DTSTAMP:20260425T034405
CREATED:20200530T082336Z
LAST-MODIFIED:20200530T194718Z
UID:2009-1591038000-1591045200@qgenesis.com
SUMMARY:De-Stress Governance
DESCRIPTION:Course Objectives:\n\nTo equip participants with an understanding of sources of stress\nTo give input in strategies to overcome professional stress\nTo make participants effective team members by reducing collective stress\n\n\nOutcome:\nBy the end of the workshops\, participants will have gained retrospection in what causes them work-related stress. They will understand the impact of stress on themselves\, their teams and their organizations. They will be able to apply strategies of stress management to increase productivity.
URL:https://qgenesis.com/event/de-stress-governance/
CATEGORIES:Soft Skills
ATTACH;FMTTYPE=image/jpeg:https://qgenesis.com/wp-content/uploads/2020/05/689179257.jpg
ORGANIZER;CN="EduMakr":MAILTO:support.training@qgenesis.com
END:VEVENT
END:VCALENDAR