BEGIN:VCALENDAR
VERSION:2.0
PRODID:-//QGENESIS - ECPv6.13.2.1//NONSGML v1.0//EN
CALSCALE:GREGORIAN
METHOD:PUBLISH
X-ORIGINAL-URL:https://qgenesis.com
X-WR-CALDESC:Events for QGENESIS
REFRESH-INTERVAL;VALUE=DURATION:PT1H
X-Robots-Tag:noindex
X-PUBLISHED-TTL:PT1H
BEGIN:VTIMEZONE
TZID:Asia/Kolkata
BEGIN:STANDARD
TZOFFSETFROM:+0530
TZOFFSETTO:+0530
TZNAME:IST
DTSTART:20200101T000000
END:STANDARD
END:VTIMEZONE
BEGIN:VEVENT
DTSTART;TZID=Asia/Kolkata:20200628T100000
DTEND;TZID=Asia/Kolkata:20200628T170000
DTSTAMP:20260425T034812
CREATED:20200530T182645Z
LAST-MODIFIED:20200530T191356Z
UID:2064-1593338400-1593363600@qgenesis.com
SUMMARY:5S
DESCRIPTION:You will learn the valuable LEAN methodology for implementing a powerful Japanese 5S System. \nOutcomes\nThe 5S lean tool is based on five Japanese words beginning with the letter “S”\, which are meant to make a workplace optimum for LEAN methodologies.
URL:https://qgenesis.com/event/5s/
CATEGORIES:Tools & Techniques
ATTACH;FMTTYPE=image/jpeg:https://qgenesis.com/wp-content/uploads/2020/05/5S.jpg
ORGANIZER;CN="EduMakr":MAILTO:support.training@qgenesis.com
END:VEVENT
BEGIN:VEVENT
DTSTART;TZID=Asia/Kolkata:20200618T190000
DTEND;TZID=Asia/Kolkata:20200618T210000
DTSTAMP:20260425T034812
CREATED:20200530T181034Z
LAST-MODIFIED:20200530T193238Z
UID:2054-1592506800-1592514000@qgenesis.com
SUMMARY:Kanban and Kaizen
DESCRIPTION:Define the PQCDSM principle for Kaizen. Explain how PQCDSM can help in the implementation of Kaizen. Kanban System course will familiarise you with the various aspects of the Kanban system\, including lean scheduling and Just in Time(JIT) production. \nOutcomes\nExplain the goal of the Kaizen process. Describe the levels of Kaizen process implementation\, organizations can undertake. Elaborate the steps for implementation of the Kanban system.
URL:https://qgenesis.com/event/kanban-and-kaizen/
CATEGORIES:Tools & Techniques
ATTACH;FMTTYPE=image/jpeg:https://qgenesis.com/wp-content/uploads/2020/05/kaizen.jpg
ORGANIZER;CN="EduMakr":MAILTO:support.training@qgenesis.com
END:VEVENT
BEGIN:VEVENT
DTSTART;TZID=Asia/Kolkata:20200611T190000
DTEND;TZID=Asia/Kolkata:20200611T210000
DTSTAMP:20260425T034812
CREATED:20200530T180039Z
LAST-MODIFIED:20200530T193847Z
UID:2047-1591902000-1591909200@qgenesis.com
SUMMARY:Hazard and Operability Study (HAZOP)
DESCRIPTION:You will learn about the application of the technique and how to plan and manage study programmes more effectively. You will also learn how best to lead study teams to ensure maximum effectiveness and successful project execution. \nOutcomes\n\nPrepare for a HAZOP study meeting and programme – including defining the scope of the study and choosing the team\nChoose nodes (parts of the drawings or operation for HAZOP study)\nUse facilitation techniques to motivate the team and keep them on task\nAvoid common problems encountered during study meetings\, including challenging behaviours\nFormulate the HAZOP study report\nUnderstand the team leader’s role in the implementation of recommendations and the management of the process.
URL:https://qgenesis.com/event/hazard-and-operability-study-hazop/
CATEGORIES:Tools & Techniques
ATTACH;FMTTYPE=image/jpeg:https://qgenesis.com/wp-content/uploads/2020/05/HAZOP.jpg
ORGANIZER;CN="EduMakr":MAILTO:support.training@qgenesis.com
END:VEVENT
BEGIN:VEVENT
DTSTART;TZID=Asia/Kolkata:20200602T190000
DTEND;TZID=Asia/Kolkata:20200602T210000
DTSTAMP:20260425T034812
CREATED:20200530T121650Z
LAST-MODIFIED:20200530T195004Z
UID:2012-1591124400-1591131600@qgenesis.com
SUMMARY:Advance Excel
DESCRIPTION:Course Objectives\n\nEasy to understand the content\, with stepwise learning module\, Analyze data like a professional\nOut of the box functionality usage to help you in reporting and project management\n\nOutcomes\nHands-on learning using advanced MS Excel simulator\, Master Pivot tables\, Macros and complex Formulae of MS Excel Exercises at the end of each module to gauge your learning.
URL:https://qgenesis.com/event/advance-excel/
CATEGORIES:Tools & Techniques
ATTACH;FMTTYPE=image/jpeg:https://qgenesis.com/wp-content/uploads/2020/05/Advanced_excel_training_by_Talent_Magnifier.jpg
ORGANIZER;CN="EduMakr":MAILTO:support.training@qgenesis.com
END:VEVENT
END:VCALENDAR